BEGIN:VCALENDAR
VERSION:2.0
PRODID:-//SSAA NSW Combined Services - ECPv4.9.14//NONSGML v1.0//EN
CALSCALE:GREGORIAN
METHOD:PUBLISH
X-WR-CALNAME:SSAA NSW Combined Services
X-ORIGINAL-URL:https://nswcsd.com.au
X-WR-CALDESC:Events for SSAA NSW Combined Services
BEGIN:VTIMEZONE
TZID:Australia/Sydney
BEGIN:STANDARD
TZOFFSETFROM:+1100
TZOFFSETTO:+1000
TZNAME:AEST
DTSTART:20200404T160000
END:STANDARD
BEGIN:DAYLIGHT
TZOFFSETFROM:+1000
TZOFFSETTO:+1100
TZNAME:AEDT
DTSTART:20201003T160000
END:DAYLIGHT
END:VTIMEZONE
BEGIN:VEVENT
DTSTART;TZID=Australia/Sydney:20200313T080000
DTEND;TZID=Australia/Sydney:20200315T150000
DTSTAMP:20200229T032905
CREATED:20200111T101154Z
LAST-MODIFIED:20200111T104729Z
UID:3485-1584086400-1584284400@nswcsd.com.au
SUMMARY:2020 City VS Country
DESCRIPTION:To RSVP for this event please click here. \nHosted by SSAA Mudgee and District Branch Inc.\nWindamere Regional Shooting Complex\, Castlereagh Highway\, 36Km South of Mudgee. \nThursday 12th March – Camping and Range set up\nRange open for camping set up from 1:00 pm \nFriday 13th March – Range 2\nPistol Competition begins 8.30am – Class 1 & 2 Pistols\, 66 rounds per class \nPistol:\nEvent 1: 3 Position Core Event – 36 rounds\nEvent 2 : 3 Positition Deliberate – 18 rounds\nEvent 3: 15m Standing Rapidfire – 12 rounds (6 x 2 Phases) \nClass 4 Pistols Only: 24 rounds\nEvent 5: 15m Standing Rapidfire – 12 rounds (6 x 2 Phases)\nEvent 6: 7m Standing Rapidfire – 12 rounds (6 x 2 Phases) \nTraining Rifle\, Cadet Rifles & Carbine Rifles (Class A (535mm / 21 inch or under centrefires)\nTrainer\, Cadet & Carbine rifles contest each event as separate classes on SSAA T4 Target.\nEvent 7: Action M 100m – 10 rounds\nEvent 8: Standing Deliberate 100m – 10 rounds \nSaturday 14th March – Range 2\nRifle Competition begins 8.30am \nSniper Rifles: Vintage (F1) and Modern/Modified (F2\, T\, J)\nImprovised rests\, sandbags bipods and backpacks only – BYO rest.\nEvent 9: Long Range Event A 300m – 12 rounds (improvised rests\, bipods\, backpacks only)\nEvent 10: Long Range Event B 300m – 10 rounds \nStandard Rifle / Accurised Modified – 60 rounds per class\nEvent 11: 300m Deliberate – 10 rounds\nEvent 12: 3 Position Core Event – 30 rounds\nEvent 13: Rapid Fire C – 20 rounds \nRange 1: Training Rifle – .22LR Rimfire Silhouette\nEvent 14: Noel Cross Memorial Silhouette Event – 30 rounds Standing\nEvents will roll over into Sunday dependant on time. \n7:00PM Dinner and Award Presentation – Range 1\nCatered dinner $25pp\, RSVP required. \nSunday 15th March\nCompetition begins 8.30am – Trainer & Cadet – 30 rounds per class \nTrainer/Cadet:\nEvent 13: 3 Position Core Event for Training and Cadet Rifle – 30 Rounds \nNomination Fees:\nAll Pistol Events $35\, All Rifle Events $50\, Individual events $25\, All Pistol and Rifle Events $60.\nJuniors half price. \nPlease submit or post nominations forms by Friday\, 6th March.\nTo RSVP for this event please click here. \nCheques / money orders made out to:\nSSAA Mudgee and District Branch Inc.\nPost to: SSAA CSD City VS Country\nPO Box 1012 Mudgee\, NSW\, 2850 \nNominations can be scanned\nEmail to: info@nswcsd.com.au\nEFT = BSB 112 879\, A/C: 413 204 888\,\nReference = “CompetitorName” & “CVC” \nGrading cards must be produced at registration.\nNo grading card is automatic entry to the highest grade with 3 competitors.\nCamping and Caravans permitted at the Range from Thursday to Sunday.\nMale and Female toilets and hot showers located at Range 2.\nSausage sizzle lunch each competition day\, drinks available for purchase. \n
URL:https://nswcsd.com.au/event/2020-city-vs-country/
LOCATION:SSAA Mudgee\, Castlereagh Hwy\, Cudgegong\, NSW\, 2850\, Australia
CATEGORIES:Competition Event,Events
ORGANIZER;CN="Anthony%20Gatti":MAILTO:info@nswcsd.com.au
END:VEVENT
END:VCALENDAR