BEGIN:VCALENDAR
VERSION:2.0
PRODID:-//SSAA NSW Combined Services - ECPv4.9.14//NONSGML v1.0//EN
CALSCALE:GREGORIAN
METHOD:PUBLISH
X-WR-CALNAME:SSAA NSW Combined Services
X-ORIGINAL-URL:https://nswcsd.com.au
X-WR-CALDESC:Events for SSAA NSW Combined Services
BEGIN:VTIMEZONE
TZID:Australia/Sydney
BEGIN:STANDARD
TZOFFSETFROM:+1100
TZOFFSETTO:+1000
TZNAME:AEST
DTSTART:20200404T160000
END:STANDARD
BEGIN:DAYLIGHT
TZOFFSETFROM:+1000
TZOFFSETTO:+1100
TZNAME:AEDT
DTSTART:20201003T160000
END:DAYLIGHT
END:VTIMEZONE
BEGIN:VEVENT
DTSTART;TZID=Australia/Sydney:20201002T070000
DTEND;TZID=Australia/Sydney:20201005T170000
DTSTAMP:20200229T033026
CREATED:20191230T045001Z
LAST-MODIFIED:20200211T030328Z
UID:3466-1601622000-1601917200@nswcsd.com.au
SUMMARY:2020 CSD National Championships
DESCRIPTION:Hosted by Sporting Shooters Association of Australia\, Gladstone Branch.\nCentral Queensland Shooting Complex\, Gladstone Queensland.\n754 Neil Creek Rd\, Wooderson QLD 4680. \nThe Championships will be conducted in accordance with SSAA CSD Rulebook No4 2017. \nThursday\, Octover 1st 2020: Practice\nRange open for practice from 8:00AM – 4:00PM \nFriday\, October 2nd 2020: Class 1\, 2 & 3 Pistol.\n7am pistol scrutineering\, 8am briefing\, 8.15am competition begins:\nClass 1\, 2 and 3 pistols. Class 1 to be shot first (competitors may shoot two classes). \nEvent 1: Match 5\nKneeling deliberate 15m\nClass 1 (Open/Junior) \nEvent 2: Match 1\n3P Core Event (25m\, 15m\, 7m)\nClass 1\, 2 or 1\, 3\, or 2\,3 (Graded/Junior) \nEvent 3: Match 9\n50m Long Range\nClass 1\, 2 or 1\, 3\, or 2\,3 (Open/Junior) \nEvent 4: Match 8\nStanding Rapid Fire 25m\nClass 1 (Open/Junior) \nEvent 5: Match 2\nThree Position Deliberate 25m\nClass 1 (Open/Junior) \nEvent 6: Match 4\nStanding Deliberate 15m\nClass 1\, 2 or 1\, 3\, or 2\,3 (Open/Junior) \nEvent 7: Chairman’s Challenge\nMatch 2: Three Position Deliberate 15m & Match 6: Standing Rapid Fire\nClass 1 (Genuine unmodified\, manufactured and ‘as issued’ pre-1946).\nCombined score. \nNote: Pistols not on the Class 1 or 2 approved lists will not be eligible unless pre-approved. Class 3 pistols are a modified Class 1 or 2 as per Rule 6.2.1.\nMedals for all pistol events\, team event\, top gun and top gun Junior.\nTop gun and team event based on combined scores Class1 pistol events 1\, 2 and 3 \nPistol medals presentations 17:00 \n\nSaturday\, October 3rd 2020: Standard and Accurised Rifle\n7am rifle scrutineering\, 8am briefing\, 8.15am competition begins.\n \nEvent 1: Match 4\nRapid Fire B (100m)\nStandard (Open/Junior) \nEvent 2: Match 1\n3P Core Event (100m\, 200m\, 300m)\nStandard (Graded/Junior) and Accurised (Open) \nEvent 3: Match 10\nDeliberate 300m\nStandard (Graded Junior) and Accurised (Open) \nEvent 4: Match 8\nSnap C 100m\nStandard (Open) \nEvent 5: Match 15\nLe Mans Option 2 (100m)\nStandard (Open) \nEvent 6: Match 3\nRapid Fire A (100m)\nStandard (Open) \nMedals for all rifle events\, Teams event\, Topgun and Topgun Junior.\nTopgun and Teams event based on combined scores standard rifle events 1\,2&3. \nStandard and Accurised rifle medals presentations 17:00\nCombined Services sub-committee AGM after Dinner 20:00 approximately \n  \nSunday\, October 4th 2020: Training Rifle\n7am rifle scrutineering\, 8am briefing\, 8.15am competition begins. \nEvent 1: Match 27\nRapid Fire B (50m)\n.22LR & .310 \nEvent 2: Match 36\nLe Mans Option 2 (50m – Open)\n.22LR & .310 \nEvent 3: Match 24\n3P Core Event (100m\, 75m\, 50m)\n.22LR & .310 (Graded/Junior) \nEvent 4: Match 32\nDeliberate 100m\n.22LR & .310 \nEvent 5: Match 26\nRapid Fire A (50m)\n.22LR & .310 \nEvent 6: Match 37\nCombined Training Rifle & Class 4 Pistol Event (25m)\n.22LR & .310 \nTraining Rifle medal presenation 17:00 \n  \nMonday\, October 5th 2020: F1\, F2 and T/J rifles\n7am rifle scrutineering\, 8am briefing\, 8.15am competition begins.\nAll event use Target 6 (Mini Core). \nEvent 1: Match 16\nLong range event A – F1 200m\, F2 300m and T/J\, 500m\nOpen \nEvent 2: Match 17\nLong range event B – F1 200m\, F2 300m and T/J\, 500m\nOpen \nEvent 3: Match 19\nLong range event C – F1 200m\, F2 300m and T/J\, 500m\nOpen \nF1\, F2 and T/J rifle medals presentations 17:00 or earlier\n$200 Voucher draw after completion of presentations\, Competitor needs to be at the draw to claim prize. \n  \nFood and drinks available all weekend. \nRange facilities:\nCamping on the 500m range.\nToilets and showers available.\nNo power available\, generators permitted. \nWe welcome owners of pets to our Range\, but request that pets remain on a lead or under their owners’ control at all times. \nNominations & Enquiries\nGreg de Koning 0458 732 993\nEmail poohbah@aapt.net.au \nPost to: Greg de Koning 31 Lighthouse dv\,\nBoyne Island Qld 4680. \nNOMINATIONS REQUESTED by 21st September 2020 to assist with catering.\nJuniors pay half price on all event fees. \nBANK TRANSFERS:\nSSAA Gladstone Branch\nBSB 084662\nAccount Number 467826455\nCHEQUES: SSAA GLADSTONE BRANCH INC. \n  \n
URL:https://nswcsd.com.au/event/2020-csd-national-championships/
LOCATION:SSAA Gladstone – Neil Creek Range\, 754 Neil Creek Road\, Wooderson\, Queensland\, 4680\, Australia
CATEGORIES:Competition Event
ORGANIZER;CN="Greg%20de%20Koning":MAILTO:poohbah@aapt.net.au
END:VEVENT
END:VCALENDAR