BEGIN:VCALENDAR
VERSION:2.0
PRODID:-//SSAA NSW Combined Services - ECPv4.9.14//NONSGML v1.0//EN
CALSCALE:GREGORIAN
METHOD:PUBLISH
X-WR-CALNAME:SSAA NSW Combined Services
X-ORIGINAL-URL:https://nswcsd.com.au
X-WR-CALDESC:Events for SSAA NSW Combined Services
BEGIN:VTIMEZONE
TZID:Australia/Sydney
BEGIN:STANDARD
TZOFFSETFROM:+1100
TZOFFSETTO:+1000
TZNAME:AEST
DTSTART:20200404T160000
END:STANDARD
BEGIN:DAYLIGHT
TZOFFSETFROM:+1000
TZOFFSETTO:+1100
TZNAME:AEDT
DTSTART:20201003T160000
END:DAYLIGHT
END:VTIMEZONE
BEGIN:VEVENT
DTSTART;TZID=Australia/Sydney:20200229T080000
DTEND;TZID=Australia/Sydney:20200301T150000
DTSTAMP:20200229T032709
CREATED:20191023T023715Z
LAST-MODIFIED:20191023T025006Z
UID:3378-1582963200-1583074800@nswcsd.com.au
SUMMARY:2020 Pistol State Titles
DESCRIPTION:To RSVP for this event\, please click here. \nHosted by Sporting Shooters Association of Australia (NSW)\, Glen Innes Branch.\nEmmaville Range\, 3884 Emmaville Road\, Emmaville NSW. \nThe titles will be conducted in accordance with SSAA Combined Services Rulebook 2017.\nOrganisers reserve the right to alter the program without notice due to circumstances of weather\, timing on the day\, etc. All efforts will be made to inform participants where practical. \nFriday 28th February – Range Setup & Practice\nRange open from 9AM\, Practice commences at 1PM. \nSaturday 29th February:\nPistol Scrutineering from 8.00am. Briefing at 8.40am.\nCompetition begins 9.00am.\nClass 1\, 2 & 3 pistols. Competitors may only shoot two classes\, Class 3 is Ungraded. \nEvent 1: Match 9\n50Mtr Long Range Deliberate – 12 Rounds\nOpen/Junior. \nEvent 2: Match 1\n3P Core Event (shot 25m\, 15m\, 7m) – 36 Rounds\nGraded/Junior. \nEvent 3: Match 8\nStanding Rapid Fire 25m – 15 Rounds\nOpen/Junior. \nEvent 4: Match 2\n3 Position Deliberate 25m – 18 Rounds\nOpen/Junior. \nMedal presentation to be held following events. \nDinner:\n6:30PM meet up at Emmaville Club Hotel – Corner of Irby and O’Donnell St\nRSVP required in advance\, $25pp slow roasted meat and veg\, paid to the venue. \nSunday 1st March:\nBriefing at 8.40am. Competition begins 9.00am. \nEvent 1: Match 3\nStanding Deliberate 25m – 12 Rounds\nOpen/Junior. \nEvent 2: Match 37\nCombined Training Rifle & Class 4 Rimfire Pistol Event – 10 Rounds Rifle\, 12 Rounds Pistol\nTraining Rifle shot on a slow-fire pistol target\, Pistol shot on a Military Pistol target. \nEvent 3: Chairman’s Challenge\, Match 1\nClass One Handguns Genuine Unmodified Manufactured and “As Issued’’ Pre 1946 pistols.\nPistols not on the Class 1 or 2 Approved Lists will not be eligible unless pre-approved.\nOpen/Junior. \nMedal presentation to follow. \nNomination Fees:\nAdults $60\, Juniors half price. Individual events $25.\nNominations forms to be received by Monday\, 17th February.\nCompetitors can nominate online here. \nCheques / money orders made out to:\nSSAA Glen Innes\nPost to: PO box 49\, Emmaville 2371 \nBBQ Lunch provided both days.\nCurrent SSAA and Grading cards must be produced at Registration.\nNo grading card causes automatic entry to the highest grade with 3 competitors. \nCamping and Caravans permitted at the Range from Friday to Sunday.\n240v power (not available for caravans)\, toilets and showers (toilets showers). \n
URL:https://nswcsd.com.au/event/2020-pistol-state-titles/
LOCATION:SSAA Glen Innes\, 3884 Emmaville Road\, Emmaville\, NSW\, 2371\, Australia
CATEGORIES:Competition Event
ORGANIZER;CN="Evan%20Brown":MAILTO:evananddell@bigpond.com
END:VEVENT
END:VCALENDAR