BEGIN:VCALENDAR
VERSION:2.0
PRODID:-//SSAA NSW Combined Services - ECPv4.9.14//NONSGML v1.0//EN
CALSCALE:GREGORIAN
METHOD:PUBLISH
X-WR-CALNAME:SSAA NSW Combined Services
X-ORIGINAL-URL:https://nswcsd.com.au
X-WR-CALDESC:Events for SSAA NSW Combined Services
BEGIN:VTIMEZONE
TZID:Australia/Sydney
BEGIN:STANDARD
TZOFFSETFROM:+1100
TZOFFSETTO:+1000
TZNAME:AEST
DTSTART:20200404T160000
END:STANDARD
BEGIN:DAYLIGHT
TZOFFSETFROM:+1000
TZOFFSETTO:+1100
TZNAME:AEDT
DTSTART:20201003T160000
END:DAYLIGHT
END:VTIMEZONE
BEGIN:VEVENT
DTSTART;TZID=Australia/Sydney:20200315T080000
DTEND;TZID=Australia/Sydney:20200315T120000
DTSTAMP:20200229T033005
CREATED:20190927T035754Z
LAST-MODIFIED:20190927T035754Z
UID:3286-1584259200-1584273600@nswcsd.com.au
SUMMARY:Club Practice - Casino
DESCRIPTION:SSAA Northern Rivers\nService Rifle / Cadet Rifle – 3 Positional \n8am – 12pm \n
URL:https://nswcsd.com.au/event/club-practice-casino-5/
LOCATION:SSAA Northern Rivers\, 50 Rifle Range Rd\, Casino\, NSW\, 2470\, Australia
CATEGORIES:Club Event
ORGANIZER;CN="Darren%20Ottery":MAILTO:och1969@hotmail.com
END:VEVENT
END:VCALENDAR